BEGIN:VCALENDAR
VERSION:2.0
PRODID:-//Studio VOXYZ - ECPv6.15.18//NONSGML v1.0//EN
CALSCALE:GREGORIAN
METHOD:PUBLISH
X-WR-CALNAME:Studio VOXYZ
X-ORIGINAL-URL:https://studiovo.xyz
X-WR-CALDESC:Events for Studio VOXYZ
REFRESH-INTERVAL;VALUE=DURATION:PT1H
X-Robots-Tag:noindex
X-PUBLISHED-TTL:PT1H
BEGIN:VTIMEZONE
TZID:UTC
BEGIN:STANDARD
TZOFFSETFROM:+0000
TZOFFSETTO:+0000
TZNAME:UTC
DTSTART:20230101T000000
END:STANDARD
END:VTIMEZONE
BEGIN:VEVENT
DTSTART;VALUE=DATE:20240718
DTEND;VALUE=DATE:20240722
DTSTAMP:20260419T235234
CREATED:20240619T043308Z
LAST-MODIFIED:20240619T043308Z
UID:1070-1721260800-1721606399@studiovo.xyz
SUMMARY:ConnectiCon 2024
DESCRIPTION:
URL:https://studiovo.xyz/event/connecticon-2024/
CATEGORIES:Conventions
END:VEVENT
END:VCALENDAR